BEGIN:VCALENDAR
VERSION:2.0
PRODID:-//Site de la commune de Sauzé-entre-Bois - ECPv4.5.13//NONSGML v1.0//EN
CALSCALE:GREGORIAN
METHOD:PUBLISH
X-WR-CALNAME:Site de la commune de Sauzé-entre-Bois
X-ORIGINAL-URL:https://www.mairie-sauze-vaussais.fr
X-WR-CALDESC:Events for Site de la commune de Sauzé-entre-Bois
BEGIN:VEVENT
DTSTART;TZID=Europe/Paris:20171130T203000
DTEND;TZID=Europe/Paris:20171130T220000
DTSTAMP:20260420T140818
CREATED:20171116T085500Z
LAST-MODIFIED:20171116T085500Z
UID:2406-1512073800-1512079200@www.mairie-sauze-vaussais.fr
SUMMARY:Assemblée générale ASTM
DESCRIPTION:JEUDI 30 NOVEMBRE 2017 à 20h30 \nà la MÉDIATHÈQUE de Sauzé Vaussais\, 1 bis rue du Baron \n \n
URL:https://www.mairie-sauze-vaussais.fr/evenement/assemblee-generale-astm/
LOCATION:1 bis rue du Baron\, Sauzé Vaussais\, 79190
CATEGORIES:Assemblée Générale
END:VEVENT
END:VCALENDAR