BEGIN:VCALENDAR
VERSION:2.0
PRODID:-//Site de la commune de Sauzé-entre-Bois - ECPv4.5.13//NONSGML v1.0//EN
CALSCALE:GREGORIAN
METHOD:PUBLISH
X-WR-CALNAME:Site de la commune de Sauzé-entre-Bois
X-ORIGINAL-URL:https://www.mairie-sauze-vaussais.fr
X-WR-CALDESC:Events for Site de la commune de Sauzé-entre-Bois
BEGIN:VEVENT
DTSTART;TZID=Europe/Paris:20180914T203000
DTEND;TZID=Europe/Paris:20180914T223000
DTSTAMP:20260420T141135
CREATED:20180907T115423Z
LAST-MODIFIED:20180907T120753Z
UID:3098-1536957000-1536964200@www.mairie-sauze-vaussais.fr
SUMMARY:Cinéma: "L'école est finie"
DESCRIPTION: \n\nDate de sortie11 juillet 2018 (1h 27min)\nDeAnne Depetrini\nAvecBérengère Krief\, Grégory Fitoussi\, Marilou Berry plus \nGenreComédie  Nationalité français\nSynopsis: Agathe Langlois\, parisienne jusqu’au bout de ses ongles bien vernis\, a tout pour être heureuse : une famille qu’elle adore\, une super bande de copines\, et elle vient d’être titularisée comme professeur d’anglais. Mais quand elle apprend qu’elle est mutée à des centaines de kilomètres de chez elle\, en plein campagne\, c’est la douche froide. Les pieds dans la boue\, à Trouilly-sur-Selles\, la bonne humeur d’Agathe va être mise à rude épreuve. Entre des collègues démotivés et des élèves plus que dissipés\, cette première année d’enseignement va lui réserver bien des surprises…  \n\n
URL:https://www.mairie-sauze-vaussais.fr/evenement/cinema-lecole-est-finie/
LOCATION:3 place de la Mairie\, Sauzé Vaussais\, 79190
CATEGORIES:Cinéma
END:VEVENT
END:VCALENDAR