BEGIN:VCALENDAR
VERSION:2.0
PRODID:-//Site de la commune de Sauzé-entre-Bois - ECPv4.5.13//NONSGML v1.0//EN
CALSCALE:GREGORIAN
METHOD:PUBLISH
X-WR-CALNAME:Site de la commune de Sauzé-entre-Bois
X-ORIGINAL-URL:https://www.mairie-sauze-vaussais.fr
X-WR-CALDESC:Events for Site de la commune de Sauzé-entre-Bois
BEGIN:VEVENT
DTSTART;TZID=Europe/Paris:20200925T203000
DTEND;TZID=Europe/Paris:20200925T223000
DTSTAMP:20260424T135445
CREATED:20200818T083236Z
LAST-MODIFIED:20200818T083236Z
UID:4821-1601065800-1601073000@www.mairie-sauze-vaussais.fr
SUMMARY:Cinéma "Terrible jungle" à 20 h 30
DESCRIPTION:
URL:https://www.mairie-sauze-vaussais.fr/evenement/cinema-terrible-jungle-a-20-h-30/
LOCATION:Sauzé Vaussais\, 79190
CATEGORIES:Cinéma
END:VEVENT
END:VCALENDAR