BEGIN:VCALENDAR
VERSION:2.0
PRODID:-//Site de la commune de Sauzé-entre-Bois - ECPv4.5.13//NONSGML v1.0//EN
CALSCALE:GREGORIAN
METHOD:PUBLISH
X-WR-CALNAME:Site de la commune de Sauzé-entre-Bois
X-ORIGINAL-URL:https://www.mairie-sauze-vaussais.fr
X-WR-CALDESC:Events for Site de la commune de Sauzé-entre-Bois
BEGIN:VEVENT
DTSTART;TZID=Europe/Paris:20180506T150000
DTEND;TZID=Europe/Paris:20180506T170000
DTSTAMP:20260421T080901
CREATED:20180503T152747Z
LAST-MODIFIED:20180503T152747Z
UID:2742-1525618800-1525626000@www.mairie-sauze-vaussais.fr
SUMMARY:Conférence
DESCRIPTION:\nLe Pays d’art et d’histoire Mellois en Poitou à Sauzé-Vaussais\nConférence. \n Sur la fascinante migration des oiseaux à l’épreuve des changements globaux\,  \nen partenariat avec le Groupe ornithologique des Deux-Sèvres\, le CNRS et le laboratoire de Chizé. \n Dimanche 6 mai\, 15h\, à la salle de spectacle de la mairie\, Sauzé-Vaussais. \nGratuit. \nContact : 05 49 27 09 62. \n\n
URL:https://www.mairie-sauze-vaussais.fr/evenement/conference/
LOCATION:3 place de la Mairie\, Sauzé Vaussais\, 79190
CATEGORIES:Conférence
ATTACH;FMTTYPE=image/png:https://www.mairie-sauze-vaussais.fr/wp-content/uploads/2018/05/Logo_VPAH.png
END:VEVENT
END:VCALENDAR