BEGIN:VCALENDAR
VERSION:2.0
PRODID:-//Site de la commune de Sauzé-entre-Bois - ECPv4.5.13//NONSGML v1.0//EN
CALSCALE:GREGORIAN
METHOD:PUBLISH
X-WR-CALNAME:Site de la commune de Sauzé-entre-Bois
X-ORIGINAL-URL:https://www.mairie-sauze-vaussais.fr
X-WR-CALDESC:Events for Site de la commune de Sauzé-entre-Bois
BEGIN:VEVENT
DTSTART;TZID=Europe/Paris:20170818T210000
DTEND;TZID=Europe/Paris:20170818T210000
DTSTAMP:20260420T140723
CREATED:20170608T123106Z
LAST-MODIFIED:20170608T131523Z
UID:2154-1503090000-1503090000@www.mairie-sauze-vaussais.fr
SUMMARY:Jeux Inter-Communes
DESCRIPTION:La première demi finale se tiendra au Pré de la Chaume \net verra s’amuser les Équipes de Sainte-Soline\, Limalonges\, Sauzé-Vaussais et Caunay \nle VENDREDI 18 AOÛT à 21h00 \nOrganisée par l’association LJS \nBuvette et Restauration sur place \nEntrée: 2€ (gratuit pour les – de 10ans) \nUn aperçu en vidéo? Cliquez sur le logo ci dessous: \n \n
URL:https://www.mairie-sauze-vaussais.fr/evenement/jeux-intercommunes/
LOCATION:Sauzé Vaussais\, 79190
CATEGORIES:Jeux Inter-Communes
END:VEVENT
END:VCALENDAR