BEGIN:VCALENDAR
VERSION:2.0
PRODID:-//Site de la commune de Sauzé-entre-Bois - ECPv4.5.13//NONSGML v1.0//EN
CALSCALE:GREGORIAN
METHOD:PUBLISH
X-WR-CALNAME:Site de la commune de Sauzé-entre-Bois
X-ORIGINAL-URL:https://www.mairie-sauze-vaussais.fr
X-WR-CALDESC:Events for Site de la commune de Sauzé-entre-Bois
BEGIN:VEVENT
DTSTART;TZID=Europe/Paris:20170610T130000
DTEND;TZID=Europe/Paris:20170610T190000
DTSTAMP:20260420T154045
CREATED:20170504T072004Z
LAST-MODIFIED:20170504T072559Z
UID:1885-1497099600-1497121200@www.mairie-sauze-vaussais.fr
SUMMARY:Journées des Sports Adaptés de Plein Air
DESCRIPTION: \n  \n
URL:https://www.mairie-sauze-vaussais.fr/evenement/journees-des-sports-de-plein-air-adaptes/
LOCATION:Sauzé Vaussais\, 79190\, France
CATEGORIES:Journée des Sports adaptés de Plein Air
END:VEVENT
END:VCALENDAR