BEGIN:VCALENDAR
VERSION:2.0
PRODID:-//Site de la commune de Sauzé-entre-Bois - ECPv4.5.13//NONSGML v1.0//EN
CALSCALE:GREGORIAN
METHOD:PUBLISH
X-WR-CALNAME:Site de la commune de Sauzé-entre-Bois
X-ORIGINAL-URL:https://www.mairie-sauze-vaussais.fr
X-WR-CALDESC:Events for Site de la commune de Sauzé-entre-Bois
BEGIN:VEVENT
DTSTART;TZID=Europe/Paris:20221109T150000
DTEND;TZID=Europe/Paris:20221109T170000
DTSTAMP:20260420T142659
CREATED:20221031T102029Z
LAST-MODIFIED:20221031T102029Z
UID:6327-1668006000-1668013200@www.mairie-sauze-vaussais.fr
SUMMARY:Médiathèque : Démonstration outils\, habits et armes  du Moyen-Age
DESCRIPTION:Passionné de reconstitution historique\, Pascal BOUCHEREAU vous fera découvrir ses objets relatifs au Moyen-Age : armes\, épées\, vaisselle\, cotte de maille\, pièces d’armures… \n Tout public. \n
URL:https://www.mairie-sauze-vaussais.fr/evenement/mediatheque-demonstration-outils-habits-et-armes-du-moyen-age/
LOCATION:1 bis rue du Baron\, Sauzé Vaussais\, 79190
ATTACH;FMTTYPE=image/jpeg:https://www.mairie-sauze-vaussais.fr/wp-content/uploads/2022/10/178pu.jpeg
END:VEVENT
END:VCALENDAR