BEGIN:VCALENDAR
VERSION:2.0
PRODID:-//Site de la commune de Sauzé-entre-Bois - ECPv4.5.13//NONSGML v1.0//EN
CALSCALE:GREGORIAN
METHOD:PUBLISH
X-WR-CALNAME:Site de la commune de Sauzé-entre-Bois
X-ORIGINAL-URL:https://www.mairie-sauze-vaussais.fr
X-WR-CALDESC:Events for Site de la commune de Sauzé-entre-Bois
BEGIN:VEVENT
DTSTART;TZID=Europe/Paris:20201029T100000
DTEND;TZID=Europe/Paris:20201029T120000
DTSTAMP:20260420T142616
CREATED:20201011T143754Z
LAST-MODIFIED:20201011T143754Z
UID:4949-1603965600-1603972800@www.mairie-sauze-vaussais.fr
SUMMARY:Médiathèque : "Grandes histoires pour petites peurs" - le jeudi 29 octobre à 10 h
DESCRIPTION:Des histoires pour avoir peur mais … pas trop. A partir de 3 ans. \n
URL:https://www.mairie-sauze-vaussais.fr/evenement/mediatheque-grandes-histoires-pour-petites-peurs-le-jeudi-29-octobre-a-10-h/
LOCATION:1 bis rue du Baron\, Sauzé Vaussais\, 79190
END:VEVENT
END:VCALENDAR