BEGIN:VCALENDAR
VERSION:2.0
PRODID:-//Site de la commune de Sauzé-entre-Bois - ECPv4.5.13//NONSGML v1.0//EN
CALSCALE:GREGORIAN
METHOD:PUBLISH
X-WR-CALNAME:Site de la commune de Sauzé-entre-Bois
X-ORIGINAL-URL:https://www.mairie-sauze-vaussais.fr
X-WR-CALDESC:Events for Site de la commune de Sauzé-entre-Bois
BEGIN:VEVENT
DTSTART;TZID=Europe/Paris:20210716T150000
DTEND;TZID=Europe/Paris:20210716T183000
DTSTAMP:20260422T104647
CREATED:20210714T100510Z
LAST-MODIFIED:20210714T100510Z
UID:5335-1626447600-1626460200@www.mairie-sauze-vaussais.fr
SUMMARY:Médiathèque : Jeu de piste l'odyssée
DESCRIPTION:Vendredi 16 juillet 2021 – 15h00 \n Puy d’anché à Sauzé-Vaussais \n( à la médiathèque en cas de mauvais temps) \nUn jeu de piste qui s’inspire de « L’Iliade et l’odyssée ». \nLes enfants joueront le rôle des compagnons d’Ulysse après la guerre de Troie\, alors qu’il tente de rentrer chez lui à Ithaque. \nLe but est de résoudre les énigmes et de réussir les défis pour avancer d’une île à une autre afin d’obtenir le festin qui les attend à l’arrivée. \n  \nRDV au parcours d’accrobranche du Puy d’Anché à Sauzé-Vaussais. \nEn cas de mauvais temps\, l’activité aura lieu à la médiathèque. \nA partir de 8 ans. \nSur inscription \n
URL:https://www.mairie-sauze-vaussais.fr/evenement/mediatheque-jeu-de-piste-lodyssee/
LOCATION:1 bis rue du Baron\, Sauzé Vaussais\, 79190
END:VEVENT
END:VCALENDAR