BEGIN:VCALENDAR
VERSION:2.0
PRODID:-//Site de la commune de Sauzé-entre-Bois - ECPv4.5.13//NONSGML v1.0//EN
CALSCALE:GREGORIAN
METHOD:PUBLISH
X-WR-CALNAME:Site de la commune de Sauzé-entre-Bois
X-ORIGINAL-URL:https://www.mairie-sauze-vaussais.fr
X-WR-CALDESC:Events for Site de la commune de Sauzé-entre-Bois
BEGIN:VEVENT
DTSTART;TZID=Europe/Paris:20221028T190000
DTEND;TZID=Europe/Paris:20221028T233000
DTSTAMP:20260420T141037
CREATED:20221009T092118Z
LAST-MODIFIED:20221009T092118Z
UID:6205-1666983600-1666999800@www.mairie-sauze-vaussais.fr
SUMMARY:Médiathèque : Jeux de rôles
DESCRIPTION:Organisé par la SEP. \n
URL:https://www.mairie-sauze-vaussais.fr/evenement/mediatheque-jeux-de-roles/
LOCATION:1 bis rue du Baron\, Sauzé Vaussais\, 79190
END:VEVENT
END:VCALENDAR