BEGIN:VCALENDAR
VERSION:2.0
PRODID:-//Site de la commune de Sauzé-entre-Bois - ECPv4.5.13//NONSGML v1.0//EN
CALSCALE:GREGORIAN
METHOD:PUBLISH
X-WR-CALNAME:Site de la commune de Sauzé-entre-Bois
X-ORIGINAL-URL:https://www.mairie-sauze-vaussais.fr
X-WR-CALDESC:Events for Site de la commune de Sauzé-entre-Bois
BEGIN:VEVENT
DTSTART;TZID=Europe/Paris:20230311T140000
DTEND;TZID=Europe/Paris:20230311T180000
DTSTAMP:20260425T111528
CREATED:20230226T122323Z
LAST-MODIFIED:20230226T122323Z
UID:6520-1678543200-1678557600@www.mairie-sauze-vaussais.fr
SUMMARY:Médiathèque La Fabrik :  Ateliers participatifs "Le ferrailleur en fleur"
DESCRIPTION:Ateliers participatifs \nSamedi 11 mars 2023 -14h/18h \nSamedi 18 mars 2023-14h/18h \nSamedi 25 mars 2023-10h/12h-14h/18h \n
URL:https://www.mairie-sauze-vaussais.fr/evenement/mediatheque-la-fabrik-ateliers-participatifs-le-ferrailleur-en-fleur/
LOCATION:1 bis rue du Baron\, Sauzé Vaussais\, 79190
END:VEVENT
END:VCALENDAR