BEGIN:VCALENDAR
VERSION:2.0
PRODID:-//Site de la commune de Sauzé-entre-Bois - ECPv4.5.13//NONSGML v1.0//EN
CALSCALE:GREGORIAN
METHOD:PUBLISH
X-WR-CALNAME:Site de la commune de Sauzé-entre-Bois
X-ORIGINAL-URL:https://www.mairie-sauze-vaussais.fr
X-WR-CALDESC:Events for Site de la commune de Sauzé-entre-Bois
BEGIN:VEVENT
DTSTART;VALUE=DATE:20240801
DTEND;VALUE=DATE:20240831
DTSTAMP:20260420T142450
CREATED:20240627T154613Z
LAST-MODIFIED:20240627T154831Z
UID:7251-1722470400-1725148799@www.mairie-sauze-vaussais.fr
SUMMARY:Médiathèque La Fabrik -Exposition de peinture de Niall O'Neill.
DESCRIPTION:Venez découvrir le travail de Niall O’Neill\, une référence dans l’univers de la nature morte réalisée au pastel ou comment capturer les jeux de lumière pour créer l’illusion de la matière. \nAprès avoir exposé en Irlande\, en Chine\, il nous fait l’honneur de présenter ses toiles à La Fabrik. \nVisible aux heures d’ouverture de la médiathèque. \nHoraires : \nmardi : 14h-18h \nmercredi : 14h-18h \njeudi : 9h-13h \nvendredi : 14h-18h \nsamedi : 10h-12h / 14h-18h \nCoordonnées : \n1 bis rue du baron 79190 Sauzé-Vaussais \nTéléphone : 05-49-2-56-61 \nMail : mediatheque @sauzevaussais.fr \nFacebook : médiathèque de Sauzé-Vaussais \n  \nGRATUIT \n
URL:https://www.mairie-sauze-vaussais.fr/evenement/mediatheque-la-fabrik-exposition-de-peinture-de-niall-oneill-du-1er-au-31-aout/
LOCATION:1 bis rue du Baron\, Sauzé Vaussais\, 79190
ATTACH;FMTTYPE=image/jpeg:https://www.mairie-sauze-vaussais.fr/wp-content/uploads/2024/06/10-bis.-Expo-Liam-ONeil-aout.jpg
END:VEVENT
END:VCALENDAR