BEGIN:VCALENDAR
VERSION:2.0
PRODID:-//Site de la commune de Sauzé-entre-Bois - ECPv4.5.13//NONSGML v1.0//EN
CALSCALE:GREGORIAN
METHOD:PUBLISH
X-WR-CALNAME:Site de la commune de Sauzé-entre-Bois
X-ORIGINAL-URL:https://www.mairie-sauze-vaussais.fr
X-WR-CALDESC:Events for Site de la commune de Sauzé-entre-Bois
BEGIN:VEVENT
DTSTART;TZID=Europe/Paris:20240402T173000
DTEND;TZID=Europe/Paris:20240402T190000
DTSTAMP:20260422T103219
CREATED:20240323T100822Z
LAST-MODIFIED:20240323T100822Z
UID:7116-1712079000-1712084400@www.mairie-sauze-vaussais.fr
SUMMARY:MEDIATHEQUE LA FABRIK : Vernissage Mustapha Rayth.
DESCRIPTION:
URL:https://www.mairie-sauze-vaussais.fr/evenement/mediatheque-la-fabrik-vernissage-mustapha-rayth/
LOCATION:1 bis rue du Baron\, Sauzé Vaussais\, 79190
ATTACH;FMTTYPE=image/jpeg:https://www.mairie-sauze-vaussais.fr/wp-content/uploads/2024/03/expo.jpg
END:VEVENT
END:VCALENDAR