BEGIN:VCALENDAR
VERSION:2.0
PRODID:-//Site de la commune de Sauzé-entre-Bois - ECPv4.5.13//NONSGML v1.0//EN
CALSCALE:GREGORIAN
METHOD:PUBLISH
X-WR-CALNAME:Site de la commune de Sauzé-entre-Bois
X-ORIGINAL-URL:https://www.mairie-sauze-vaussais.fr
X-WR-CALDESC:Events for Site de la commune de Sauzé-entre-Bois
BEGIN:VEVENT
DTSTART;TZID=Europe/Paris:20230728T203000
DTEND;TZID=Europe/Paris:20230728T230000
DTSTAMP:20260421T050735
CREATED:20230713T120339Z
LAST-MODIFIED:20230713T120339Z
UID:6710-1690576200-1690585200@www.mairie-sauze-vaussais.fr
SUMMARY:Musicales de Vaussais : Chorale à travers chants
DESCRIPTION:Composée de chanteurs et chanteuses de notre territoire\, la chorale à travers chant reprendra les plus grands standards dans le cadre magnifique de l’église de Vaussais. La chorale regroupe des passionnés de musique dirigés depuis plus de 30 ans par le chef de cœur Jean François Lucas. Une très belle soirée en perspective. \n Eglise de Vaussais \nOuverture des portes : 20h \nDébut des concerts : 20h30 \nEntrée : 2 € \n  \n  \nMairie de Sauzé-Vaussais \nTél : 05 49 07 60 53 \nwww.mairie-sauze-vaussais.fr \n
URL:https://www.mairie-sauze-vaussais.fr/evenement/musicales-de-vaussais-chorale-a-travers-chants/
LOCATION:Vaussais\, Sauzé Vaussais\, 79190\, France
ATTACH;FMTTYPE=image/jpeg:https://www.mairie-sauze-vaussais.fr/wp-content/uploads/2023/07/atraverschants2.jpg
END:VEVENT
END:VCALENDAR