BEGIN:VCALENDAR
VERSION:2.0
PRODID:-//Site de la commune de Sauzé-entre-Bois - ECPv4.5.13//NONSGML v1.0//EN
CALSCALE:GREGORIAN
METHOD:PUBLISH
X-WR-CALNAME:Site de la commune de Sauzé-entre-Bois
X-ORIGINAL-URL:https://www.mairie-sauze-vaussais.fr
X-WR-CALDESC:Events for Site de la commune de Sauzé-entre-Bois
BEGIN:VEVENT
DTSTART;TZID=Europe/Paris:20230811T203000
DTEND;TZID=Europe/Paris:20230811T230000
DTSTAMP:20260422T103716
CREATED:20230713T124257Z
LAST-MODIFIED:20230713T124257Z
UID:6719-1691785800-1691794800@www.mairie-sauze-vaussais.fr
SUMMARY:Musicales de Vaussais : EDEN TRIO
DESCRIPTION:Le EDEN trio est composé d’Elena Penalver au chant et au piano\, de Dave Duran à la batterie et de Nathalie Audier à la basse. Habitués à partager des scènes au Bateleur à Nieul-sur-Mer\, les trois musiciens proposent aujourd’hui un répertoire varié et actuel\, allant principalement des années 90 à aujourd’hui\, n’hésitant pas à remonter les décennies le temps d’une ou deux chansons. En revisitant des tubes de variété internationale\, pop\, rock\, soul\, r’n’b\, le groupe vous promet une soirée pleine de surprises musicales et qui saura ravir tous les spectateurs! \n  \nEntrée : 2 € \nEglise de Vaussais \nOuverture des portes : 20h \nDébut des concerts : 20h30 \n  \nMairie de Sauzé-Vaussais \nTel : 05 49 07 60 53 \nwww.mairie-sauze-vaussais.fr \n
URL:https://www.mairie-sauze-vaussais.fr/evenement/musicales-de-vaussais-eden-trio/
LOCATION:Vaussais\, Sauzé Vaussais\, 79190\, France
ATTACH;FMTTYPE=image/jpeg:https://www.mairie-sauze-vaussais.fr/wp-content/uploads/2023/07/eden-trio.jpg
END:VEVENT
END:VCALENDAR