BEGIN:VCALENDAR
VERSION:2.0
PRODID:-//Site de la commune de Sauzé-entre-Bois - ECPv4.5.13//NONSGML v1.0//EN
CALSCALE:GREGORIAN
METHOD:PUBLISH
X-WR-CALNAME:Site de la commune de Sauzé-entre-Bois
X-ORIGINAL-URL:https://www.mairie-sauze-vaussais.fr
X-WR-CALDESC:Events for Site de la commune de Sauzé-entre-Bois
BEGIN:VEVENT
DTSTART;TZID=Europe/Paris:20230713T190000
DTEND;TZID=Europe/Paris:20230713T233000
DTSTAMP:20260421T015632
CREATED:20230713T104358Z
LAST-MODIFIED:20230713T104358Z
UID:6705-1689274800-1689291000@www.mairie-sauze-vaussais.fr
SUMMARY:Pique nique- Feu d'artifices et soirée musicale avec DJ Animations
DESCRIPTION:
URL:https://www.mairie-sauze-vaussais.fr/evenement/pique-nique-feu-dartifices-et-soiree-musicale-avec-dj-animations/
LOCATION:Route de Vauthion\, Sauzé Vaussais\, 79190\, France
END:VEVENT
END:VCALENDAR