BEGIN:VCALENDAR
VERSION:2.0
PRODID:-//Site de la commune de Sauzé-entre-Bois - ECPv4.5.13//NONSGML v1.0//EN
CALSCALE:GREGORIAN
METHOD:PUBLISH
X-WR-CALNAME:Site de la commune de Sauzé-entre-Bois
X-ORIGINAL-URL:https://www.mairie-sauze-vaussais.fr
X-WR-CALDESC:Events for Site de la commune de Sauzé-entre-Bois
BEGIN:VEVENT
DTSTART;TZID=Europe/Paris:20231215T203000
DTEND;TZID=Europe/Paris:20231215T223000
DTSTAMP:20260422T103650
CREATED:20231119T203728Z
LAST-MODIFIED:20231119T203728Z
UID:6968-1702672200-1702679400@www.mairie-sauze-vaussais.fr
SUMMARY:Sep Ciné : "Monsieur le Maire"
DESCRIPTION:Salle P. Bourdin- 1er étage de la Mairie\n \nDurée : 1h 42min / Comédie dramatique\nDe Karine Blanc\, Michel Tavares\nPar Karine Blanc\, Michel Tavares\nAvec Clovis Cornillac\, Eye Haïdara\, Laurence Côte\n \n\n\nSYNOPSIS\n\nMaire d’un petit village de montagne au pied du Mont-Blanc\, Paul Barral se bat pour maintenir les commerces et préserver l’école d’une fermeture annoncée. Alors qu’il cherche désespérément comment attirer de nouvelles familles\, l’arrivée de mères célibataires en situation difficile dont Joe-Lynn\, chanteuse au franc-parler et ses deux enfants\, va vite faire des étincelles dans ce village paisible. Non sans détermination\, Monsieur Le Maire a peut-être trouvé là\, une solution inédite pour ramener de la vie dans un territoire à l’abandon…\n\n
URL:https://www.mairie-sauze-vaussais.fr/evenement/sep-cine-monsieur-le-maire/
ATTACH;FMTTYPE=image/jpeg:https://www.mairie-sauze-vaussais.fr/wp-content/uploads/2023/11/monsieurlemaire_Doc120_WEB.jpg
END:VEVENT
END:VCALENDAR