BEGIN:VCALENDAR
VERSION:2.0
PRODID:-//Site de la commune de Sauzé-entre-Bois - ECPv4.5.13//NONSGML v1.0//EN
CALSCALE:GREGORIAN
METHOD:PUBLISH
X-WR-CALNAME:Site de la commune de Sauzé-entre-Bois
X-ORIGINAL-URL:https://www.mairie-sauze-vaussais.fr
X-WR-CALDESC:Events for Site de la commune de Sauzé-entre-Bois
BEGIN:VEVENT
DTSTART;TZID=Europe/Paris:20240322T203000
DTEND;TZID=Europe/Paris:20240322T213000
DTSTAMP:20260420T142412
CREATED:20240218T115512Z
LAST-MODIFIED:20240218T115512Z
UID:7092-1711139400-1711143000@www.mairie-sauze-vaussais.fr
SUMMARY:SEP CINEMA : Maison de retraite 2
DESCRIPTION:1h 42min | Comédie\nDe Claude Zidi Jr.\nPar Kev Adams\, Elodie Hesme \nAvec Kev Adams\, Jean Reno\, Daniel Prévost\n\n\nSynopsis\n\n\nQuand le foyer Lino Vartan – qui accueille jeunes orphelins et seniors- doit fermer pour raisons sanitaires\, Milann n’a pas d’autre choix que de répondre à l’invitation d’une maison de retraite dans le Sud qui les accueille pour l’été. Tous embarquent dans le bus d’Alban. Enfants et anciens découvrent alors le Bel Azur Club\, une villa idyllique au bord de la mer : le rêve ! Une aubaine pour ces gamins orphelins qui n’ont jamais eu de vacances… Mais le paradis tourne à l’enfer car anciens et nouveaux pensionnaires du 3e âge se détestent ! La guerre des seniors est déclarée ! \n\n\n
URL:https://www.mairie-sauze-vaussais.fr/evenement/sep-cinema-maison-de-retraite-2/
LOCATION:Sauzé Vaussais\, 79190
ATTACH;FMTTYPE=image/jpeg:https://www.mairie-sauze-vaussais.fr/wp-content/uploads/2024/02/0273666.jpg-c_310_420_x-f_jpg-q_x-xxyxx.jpg
END:VEVENT
END:VCALENDAR