BEGIN:VCALENDAR
VERSION:2.0
PRODID:-//Site de la commune de Sauzé-entre-Bois - ECPv4.5.13//NONSGML v1.0//EN
CALSCALE:GREGORIAN
METHOD:PUBLISH
X-WR-CALNAME:Site de la commune de Sauzé-entre-Bois
X-ORIGINAL-URL:https://www.mairie-sauze-vaussais.fr
X-WR-CALDESC:Events for Site de la commune de Sauzé-entre-Bois
BEGIN:VEVENT
DTSTART;TZID=Europe/Paris:20171014T190000
DTEND;TZID=Europe/Paris:20171014T230000
DTSTAMP:20260422T103346
CREATED:20170920T121908Z
LAST-MODIFIED:20170920T122443Z
UID:2266-1508007600-1508022000@www.mairie-sauze-vaussais.fr
SUMMARY:Soirée Cabaret
DESCRIPTION:à la Ferme Auberge du Puy d’Anché \nMenu à 32€ Apéritif offert \nAvec Zebulon / Piano et Cathy Nichols / Chant \nSur réservation au 05.49.07.90.69 \n\n
URL:https://www.mairie-sauze-vaussais.fr/evenement/soiree-cabaret/
LOCATION:Sauzé Vaussais\, 79190
CATEGORIES:Cabaret
END:VEVENT
END:VCALENDAR