BEGIN:VCALENDAR
VERSION:2.0
PRODID:-//Site de la commune de Sauzé-entre-Bois - ECPv4.5.13//NONSGML v1.0//EN
CALSCALE:GREGORIAN
METHOD:PUBLISH
X-WR-CALNAME:Site de la commune de Sauzé-entre-Bois
X-ORIGINAL-URL:https://www.mairie-sauze-vaussais.fr
X-WR-CALDESC:Events for Site de la commune de Sauzé-entre-Bois
BEGIN:VEVENT
DTSTART;VALUE=DATE:20171210
DTEND;VALUE=DATE:20171210
DTSTAMP:20260420T140723
CREATED:20171116T091201Z
LAST-MODIFIED:20171116T091839Z
UID:2418-1512864000-1512950399@www.mairie-sauze-vaussais.fr
SUMMARY:Téléthon 2017
DESCRIPTION:Randonnée Motos et Quads \n organisée par la MOTO VERTE SAUZEENNE et le Comité des Fêtes de Sauzé Vaussais \nInscriptions limitées (sur le site de la Moto verte: http://club.quomodo.com/la_moto_verte_sauzeenne/ ) \n10€ par personne \nRestauration sur place \nRandonnée + spéciale \nRendez vous à 9h00 \n \n
URL:https://www.mairie-sauze-vaussais.fr/evenement/telethon-2017-2/
LOCATION:Place des Halles\, Sauzé Vaussais\, 79190
CATEGORIES:Téléthon
ORGANIZER;CN="Moto%20Verte%20Sauz%C3%A9enne":MAILTO:moto-verte.sauze@laposte.net  
END:VEVENT
END:VCALENDAR