BEGIN:VCALENDAR
VERSION:2.0
PRODID:-//Site de la commune de Sauzé-entre-Bois - ECPv4.5.13//NONSGML v1.0//EN
CALSCALE:GREGORIAN
METHOD:PUBLISH
X-WR-CALNAME:Site de la commune de Sauzé-entre-Bois
X-ORIGINAL-URL:https://www.mairie-sauze-vaussais.fr
X-WR-CALDESC:Events for Site de la commune de Sauzé-entre-Bois
BEGIN:VEVENT
DTSTART;TZID=Europe/Paris:20171209T190000
DTEND;TZID=Europe/Paris:20171209T230000
DTSTAMP:20260420T140716
CREATED:20170908T152401Z
LAST-MODIFIED:20171116T091701Z
UID:2222-1512846000-1512860400@www.mairie-sauze-vaussais.fr
SUMMARY:Téléthon 2017
DESCRIPTION:Le dynamique Comité des Fêtes de Sauzé Vaussais vous propose un Diner et soirée dansante à partir de 19h00 \nle SAMEDI 9 DÉCEMBRE 2017  \n(inscription avant le 1er décembre) \n  \nL’apéritif sera offert par le Crédit agricole de Sauzé-Vaussais \n Les bénéfices seront reversés au Téléthon. \nVenez nombreux\, Ambiance assurée \nSite officiel du Téléthon: http://telethon2017.fr/  \n
URL:https://www.mairie-sauze-vaussais.fr/evenement/telethon-2017/
LOCATION:Place des Halles\, Sauzé Vaussais\, 79190\, France
CATEGORIES:Téléthon
END:VEVENT
END:VCALENDAR