BEGIN:VCALENDAR
VERSION:2.0
PRODID:-//Site de la commune de Sauzé-entre-Bois - ECPv4.5.13//NONSGML v1.0//EN
CALSCALE:GREGORIAN
METHOD:PUBLISH
X-WR-CALNAME:Site de la commune de Sauzé-entre-Bois
X-ORIGINAL-URL:https://www.mairie-sauze-vaussais.fr
X-WR-CALDESC:Events for Site de la commune de Sauzé-entre-Bois
BEGIN:VEVENT
DTSTART;TZID=Europe/Paris:20180210T113000
DTEND;TZID=Europe/Paris:20180210T123000
DTSTAMP:20260420T152634
CREATED:20180207T162009Z
LAST-MODIFIED:20180207T162115Z
UID:2605-1518262200-1518265800@www.mairie-sauze-vaussais.fr
SUMMARY:Vernissage exposition "autour du Papier"
DESCRIPTION:Vous êtes conviés à venir découvrir la nouvelle et superbe nouvelle exposition  \nlors de son vernissage SAMEDI 10 FÉVRIER à 11h30 \nproposée par la Médiathèque la Fabrik (05.49.29.56.61) \n \n
URL:https://www.mairie-sauze-vaussais.fr/evenement/vernissage-exposition-autour-du-papier/
LOCATION:1 bis rue du Baron\, Sauzé Vaussais\, 79190
CATEGORIES:Exposition,Médiathèque
ORGANIZER;CN="M%C3%A9diath%C3%A8que%20La%20Fabrik":MAILTO:mediatheque@sauzevaussais.fr
END:VEVENT
END:VCALENDAR